BEGIN:VCALENDAR
VERSION:2.0
PRODID:-//Apple Inc.//macOS 11.6.5//EN
CALSCALE:GREGORIAN
BEGIN:VEVENT
TRANSP:TRANSPARENT
DTEND;VALUE=DATE:20220521
UID:2tefcvpa94461h4m6tlc69p1ja@google.com
DTSTAMP:20220422T091758Z
LOCATION:Southview Park Hotel\, Morningside Dr\, Skegness PE25 2LA\, UK
DESCRIPTION:Thursday from 10am to 6pm\nFriday from 10am to 4pm
URL;VALUE=URI:https://www.udc.co.uk/ecas2022
STATUS:CONFIRMED
SEQUENCE:0
SUMMARY:Skegness ECAS 2022
LAST-MODIFIED:20220422T091758Z
DTSTART;VALUE=DATE:20220519
CREATED:20220114T175653Z
X-APPLE-TRAVEL-ADVISORY-BEHAVIOR:AUTOMATIC
BEGIN:VALARM
X-WR-ALARMUID:1CE0DC07-5CD9-4B68-9F4C-92E2E053CC0A
UID:1CE0DC07-5CD9-4B68-9F4C-92E2E053CC0A
TRIGGER;VALUE=DATE-TIME:19760401T005545Z
ACTION:NONE
END:VALARM
BEGIN:VALARM
X-WR-ALARMUID:30BB2CFD-722D-4DFC-9E12-3806E7E57183
UID:30BB2CFD-722D-4DFC-9E12-3806E7E57183
TRIGGER:PT9H
ATTACH;VALUE=URI:Chord
ACTION:AUDIO
END:VALARM
END:VEVENT
END:VCALENDAR
