BEGIN:VCALENDAR
VERSION:2.0
PRODID:-//Apple Inc.//macOS 11.6.5//EN
CALSCALE:GREGORIAN
BEGIN:VEVENT
TRANSP:TRANSPARENT
DTEND;VALUE=DATE:20220518
UID:7g2o08leqlmfd0asusjh000vou@google.com
DTSTAMP:20220422T091805Z
LOCATION:The Downe Arms Hotel\, Main Rd\, Wykeham\, Scarborough YO13 9QB
 \, UK
DESCRIPTION:Monday from 10am to 6pm\nTuesday from 10am to 4pm
URL;VALUE=URI:https://www.udc.co.uk/ecas2022
STATUS:CONFIRMED
SEQUENCE:2
SUMMARY:Scarborough ECAS 2022 
LAST-MODIFIED:20220422T091805Z
DTSTART;VALUE=DATE:20220516
CREATED:20220114T175351Z
X-APPLE-TRAVEL-ADVISORY-BEHAVIOR:AUTOMATIC
BEGIN:VALARM
X-WR-ALARMUID:ACD65585-74D2-4E77-B32D-B080CEB8ECC5
UID:ACD65585-74D2-4E77-B32D-B080CEB8ECC5
TRIGGER;VALUE=DATE-TIME:19760401T005545Z
ACTION:NONE
END:VALARM
BEGIN:VALARM
X-WR-ALARMUID:B48AB966-D223-4D7D-B86B-62314A5E41F7
UID:B48AB966-D223-4D7D-B86B-62314A5E41F7
TRIGGER:PT9H
ATTACH;VALUE=URI:Chord
ACTION:AUDIO
END:VALARM
END:VEVENT
END:VCALENDAR
